BEGIN:VCALENDAR
VERSION:2.0
PRODID:icalendar-ruby
CALSCALE:GREGORIAN
METHOD:PUBLISH
BEGIN:VEVENT
DTSTAMP:20260423T150054Z
UID:264-2753153@smrbc.org
DTSTART:20260509T160000Z
DTEND:20260509T180000Z
CLASS:PUBLIC
CREATED:20260416T121638
DESCRIPTION:Senior Ministry Picnic &amp\; Game Day\nSaturday\, May 9 | 12:0
 0–2:00 PM | MP-1\nSeniors are warmly invited to join us for a Picnic and
  Game Day in MP-1. This event is open to anyone age 65 and older\, those w
 ho are retired\, or anyone who considers themselves part of our senior com
 munity.\nThe church will provide grilled hamburgers\, hot dogs\, and bever
 ages. Attendees are welcome to bring a side dish or dessert to share\, tho
 ugh it is not required—your presence is what matters most. If you’re a
 ble\, feel free to bring a favorite game to enjoy with others.\nFollowing 
 lunch\, we will gather around tables for a time of games and fellowship.\n
 Please RSVP to the church office at (804) 672-6811 or email@smrbc.org\n i
 f you plan to attend. If you would like to let us know what you may bring\
 , it would be greatly appreciated.
LAST-MODIFIED:20260416T121638
LOCATION:MP-1
SUMMARY:Senior Ministry Picnic and Game Day
URL;VALUE=URI:https://www.smrbc.org/events/senior-ministry-picnic-and-game-
 day/2026-05-09
ATTACH;FILENAME=Senior-Picnic 2026.jpg;FMTTYPE=image/jpeg:https://dq5pwpg1q
 8ru0.cloudfront.net/2026/04/16/16/16/38/ac1499b7-746f-4db6-b45a-2b3025d627
 83/Senior-Picnic%202026.jpg
END:VEVENT
END:VCALENDAR
