BEGIN:VCALENDAR
VERSION:2.0
PRODID:icalendar-ruby
CALSCALE:GREGORIAN
METHOD:PUBLISH
BEGIN:VEVENT
DTSTAMP:20260420T160511Z
UID:263-2740911@smrbc.org
DTSTART:20260503T090000Z
DTEND:20260503T223000Z
CLASS:PUBLIC
CREATED:20260415T081610
DESCRIPTION:Appreciation Night for Wes &amp\; Chris\nJoin us for a special 
 evening as we honor Wes and Chris and celebrate God’s grace throughout t
 heir many years of faithful service overseas in Asia. Come and hear how th
 e Lord has worked through their journey.\nSunday\, May 3rd at 5:00 PM\nLoc
 ation: MP-1\nLight refreshments will be provided.\nNo reservation is requi
 red—all are welcome!
LAST-MODIFIED:20260415T081610
LOCATION:
SUMMARY:Appreciation Night for Wes & Chris
URL;VALUE=URI:https://www.smrbc.org/events/appreciation-night-for-wes-chris
 /2026-05-03
ATTACH;FILENAME=Appreciation Night for Wes and Chris 3.png;FMTTYPE=image/pn
 g:https://dq5pwpg1q8ru0.cloudfront.net/2026/04/15/12/16/09/eb22b57f-8bf3-4
 46a-87f3-9ec78327cd5e/Appreciation%20Night%20for%20Wes%20and%20Chris%203.p
 ng
END:VEVENT
END:VCALENDAR
